BEGIN:VCALENDAR
VERSION:2.0
PRODID:-//PYVOBJECT//NONSGML Version 1//EN
BEGIN:VEVENT
UID:24851:3729
DTSTART:20160302T000000
DTEND:20160430T000000
DESCRIPTION:
DTSTAMP:20260420T012319Z
SUMMARY:Riess Kochgeschirr - 50% auf ausgewählte Artikel
END:VEVENT
END:VCALENDAR
