BEGIN:VCALENDAR
VERSION:2.0
PRODID:-//PYVOBJECT//NONSGML Version 1//EN
BEGIN:VEVENT
UID:24851:3730
DTSTART:20160302T000000
DTEND:20160331T000000
DESCRIPTION:
DTSTAMP:20260420T012320Z
SUMMARY:Steckzwiebel 250g € 1\,70
END:VEVENT
END:VCALENDAR
